BEGIN:VCALENDAR
VERSION:2.0
PRODID:-//Victoria Park Community Centre - ECPv6.15.20//NONSGML v1.0//EN
CALSCALE:GREGORIAN
METHOD:PUBLISH
X-WR-CALNAME:Victoria Park Community Centre
X-ORIGINAL-URL:https://www.vpcc.co.uk
X-WR-CALDESC:Events for Victoria Park Community Centre
REFRESH-INTERVAL;VALUE=DURATION:PT1H
X-Robots-Tag:noindex
X-PUBLISHED-TTL:PT1H
BEGIN:VTIMEZONE
TZID:Europe/London
BEGIN:DAYLIGHT
TZOFFSETFROM:+0000
TZOFFSETTO:+0100
TZNAME:BST
DTSTART:20250330T010000
END:DAYLIGHT
BEGIN:STANDARD
TZOFFSETFROM:+0100
TZOFFSETTO:+0000
TZNAME:GMT
DTSTART:20251026T010000
END:STANDARD
BEGIN:DAYLIGHT
TZOFFSETFROM:+0000
TZOFFSETTO:+0100
TZNAME:BST
DTSTART:20260329T010000
END:DAYLIGHT
BEGIN:STANDARD
TZOFFSETFROM:+0100
TZOFFSETTO:+0000
TZNAME:GMT
DTSTART:20261025T010000
END:STANDARD
BEGIN:DAYLIGHT
TZOFFSETFROM:+0000
TZOFFSETTO:+0100
TZNAME:BST
DTSTART:20270328T010000
END:DAYLIGHT
BEGIN:STANDARD
TZOFFSETFROM:+0100
TZOFFSETTO:+0000
TZNAME:GMT
DTSTART:20271031T010000
END:STANDARD
END:VTIMEZONE
BEGIN:VEVENT
DTSTART;TZID=Europe/London:20260425T080000
DTEND;TZID=Europe/London:20260425T110000
DTSTAMP:20260420T094348
CREATED:20250711T091505Z
LAST-MODIFIED:20251028T165130Z
UID:10002465-1777104000-1777114800@www.vpcc.co.uk
SUMMARY:Slimming World - Sharon Lewis
DESCRIPTION:
URL:https://www.vpcc.co.uk/event/slimming-world-sharon-lewis-2/2026-04-25
LOCATION:Victoria Park Community Centre\, Victoria Park Drive\, Bridgwater\, Somerset\, TA6 7AS\, United Kingdom
END:VEVENT
BEGIN:VEVENT
DTSTART;TZID=Europe/London:20260502T080000
DTEND;TZID=Europe/London:20260502T110000
DTSTAMP:20260420T094348
CREATED:20250711T091505Z
LAST-MODIFIED:20251028T165130Z
UID:10002466-1777708800-1777719600@www.vpcc.co.uk
SUMMARY:Slimming World - Sharon Lewis
DESCRIPTION:
URL:https://www.vpcc.co.uk/event/slimming-world-sharon-lewis-2/2026-05-02
LOCATION:Victoria Park Community Centre\, Victoria Park Drive\, Bridgwater\, Somerset\, TA6 7AS\, United Kingdom
END:VEVENT
BEGIN:VEVENT
DTSTART;TZID=Europe/London:20260509T080000
DTEND;TZID=Europe/London:20260509T110000
DTSTAMP:20260420T094348
CREATED:20250711T091505Z
LAST-MODIFIED:20251028T165130Z
UID:10002467-1778313600-1778324400@www.vpcc.co.uk
SUMMARY:Slimming World - Sharon Lewis
DESCRIPTION:
URL:https://www.vpcc.co.uk/event/slimming-world-sharon-lewis-2/2026-05-09
LOCATION:Victoria Park Community Centre\, Victoria Park Drive\, Bridgwater\, Somerset\, TA6 7AS\, United Kingdom
END:VEVENT
BEGIN:VEVENT
DTSTART;TZID=Europe/London:20260516T080000
DTEND;TZID=Europe/London:20260516T110000
DTSTAMP:20260420T094348
CREATED:20250711T091505Z
LAST-MODIFIED:20251028T165130Z
UID:10002468-1778918400-1778929200@www.vpcc.co.uk
SUMMARY:Slimming World - Sharon Lewis
DESCRIPTION:
URL:https://www.vpcc.co.uk/event/slimming-world-sharon-lewis-2/2026-05-16
LOCATION:Victoria Park Community Centre\, Victoria Park Drive\, Bridgwater\, Somerset\, TA6 7AS\, United Kingdom
END:VEVENT
BEGIN:VEVENT
DTSTART;TZID=Europe/London:20260523T080000
DTEND;TZID=Europe/London:20260523T110000
DTSTAMP:20260420T094348
CREATED:20250711T091505Z
LAST-MODIFIED:20251028T165130Z
UID:10002469-1779523200-1779534000@www.vpcc.co.uk
SUMMARY:Slimming World - Sharon Lewis
DESCRIPTION:
URL:https://www.vpcc.co.uk/event/slimming-world-sharon-lewis-2/2026-05-23
LOCATION:Victoria Park Community Centre\, Victoria Park Drive\, Bridgwater\, Somerset\, TA6 7AS\, United Kingdom
END:VEVENT
BEGIN:VEVENT
DTSTART;TZID=Europe/London:20260530T080000
DTEND;TZID=Europe/London:20260530T110000
DTSTAMP:20260420T094348
CREATED:20250711T091505Z
LAST-MODIFIED:20251028T165130Z
UID:10002470-1780128000-1780138800@www.vpcc.co.uk
SUMMARY:Slimming World - Sharon Lewis
DESCRIPTION:
URL:https://www.vpcc.co.uk/event/slimming-world-sharon-lewis-2/2026-05-30
LOCATION:Victoria Park Community Centre\, Victoria Park Drive\, Bridgwater\, Somerset\, TA6 7AS\, United Kingdom
END:VEVENT
BEGIN:VEVENT
DTSTART;TZID=Europe/London:20260606T080000
DTEND;TZID=Europe/London:20260606T110000
DTSTAMP:20260420T094348
CREATED:20250711T091505Z
LAST-MODIFIED:20251028T165130Z
UID:10002471-1780732800-1780743600@www.vpcc.co.uk
SUMMARY:Slimming World - Sharon Lewis
DESCRIPTION:
URL:https://www.vpcc.co.uk/event/slimming-world-sharon-lewis-2/2026-06-06
LOCATION:Victoria Park Community Centre\, Victoria Park Drive\, Bridgwater\, Somerset\, TA6 7AS\, United Kingdom
END:VEVENT
BEGIN:VEVENT
DTSTART;TZID=Europe/London:20260613T080000
DTEND;TZID=Europe/London:20260613T110000
DTSTAMP:20260420T094348
CREATED:20250711T091505Z
LAST-MODIFIED:20251028T165130Z
UID:10002472-1781337600-1781348400@www.vpcc.co.uk
SUMMARY:Slimming World - Sharon Lewis
DESCRIPTION:
URL:https://www.vpcc.co.uk/event/slimming-world-sharon-lewis-2/2026-06-13
LOCATION:Victoria Park Community Centre\, Victoria Park Drive\, Bridgwater\, Somerset\, TA6 7AS\, United Kingdom
END:VEVENT
BEGIN:VEVENT
DTSTART;TZID=Europe/London:20260620T080000
DTEND;TZID=Europe/London:20260620T110000
DTSTAMP:20260420T094348
CREATED:20250711T091505Z
LAST-MODIFIED:20251028T165130Z
UID:10002473-1781942400-1781953200@www.vpcc.co.uk
SUMMARY:Slimming World - Sharon Lewis
DESCRIPTION:
URL:https://www.vpcc.co.uk/event/slimming-world-sharon-lewis-2/2026-06-20
LOCATION:Victoria Park Community Centre\, Victoria Park Drive\, Bridgwater\, Somerset\, TA6 7AS\, United Kingdom
END:VEVENT
BEGIN:VEVENT
DTSTART;TZID=Europe/London:20260627T080000
DTEND;TZID=Europe/London:20260627T110000
DTSTAMP:20260420T094348
CREATED:20250711T091505Z
LAST-MODIFIED:20251028T165130Z
UID:10002474-1782547200-1782558000@www.vpcc.co.uk
SUMMARY:Slimming World - Sharon Lewis
DESCRIPTION:
URL:https://www.vpcc.co.uk/event/slimming-world-sharon-lewis-2/2026-06-27
LOCATION:Victoria Park Community Centre\, Victoria Park Drive\, Bridgwater\, Somerset\, TA6 7AS\, United Kingdom
END:VEVENT
BEGIN:VEVENT
DTSTART;TZID=Europe/London:20260704T080000
DTEND;TZID=Europe/London:20260704T110000
DTSTAMP:20260420T094348
CREATED:20250711T091505Z
LAST-MODIFIED:20251028T165130Z
UID:10002475-1783152000-1783162800@www.vpcc.co.uk
SUMMARY:Slimming World - Sharon Lewis
DESCRIPTION:
URL:https://www.vpcc.co.uk/event/slimming-world-sharon-lewis-2/2026-07-04
LOCATION:Victoria Park Community Centre\, Victoria Park Drive\, Bridgwater\, Somerset\, TA6 7AS\, United Kingdom
END:VEVENT
BEGIN:VEVENT
DTSTART;TZID=Europe/London:20260711T080000
DTEND;TZID=Europe/London:20260711T110000
DTSTAMP:20260420T094348
CREATED:20250711T091505Z
LAST-MODIFIED:20251028T165130Z
UID:10002476-1783756800-1783767600@www.vpcc.co.uk
SUMMARY:Slimming World - Sharon Lewis
DESCRIPTION:
URL:https://www.vpcc.co.uk/event/slimming-world-sharon-lewis-2/2026-07-11
LOCATION:Victoria Park Community Centre\, Victoria Park Drive\, Bridgwater\, Somerset\, TA6 7AS\, United Kingdom
END:VEVENT
BEGIN:VEVENT
DTSTART;TZID=Europe/London:20260718T080000
DTEND;TZID=Europe/London:20260718T110000
DTSTAMP:20260420T094348
CREATED:20250711T091505Z
LAST-MODIFIED:20251028T165130Z
UID:10002477-1784361600-1784372400@www.vpcc.co.uk
SUMMARY:Slimming World - Sharon Lewis
DESCRIPTION:
URL:https://www.vpcc.co.uk/event/slimming-world-sharon-lewis-2/2026-07-18
LOCATION:Victoria Park Community Centre\, Victoria Park Drive\, Bridgwater\, Somerset\, TA6 7AS\, United Kingdom
END:VEVENT
BEGIN:VEVENT
DTSTART;TZID=Europe/London:20260725T080000
DTEND;TZID=Europe/London:20260725T110000
DTSTAMP:20260420T094348
CREATED:20250711T091505Z
LAST-MODIFIED:20251028T165130Z
UID:10002478-1784966400-1784977200@www.vpcc.co.uk
SUMMARY:Slimming World - Sharon Lewis
DESCRIPTION:
URL:https://www.vpcc.co.uk/event/slimming-world-sharon-lewis-2/2026-07-25
LOCATION:Victoria Park Community Centre\, Victoria Park Drive\, Bridgwater\, Somerset\, TA6 7AS\, United Kingdom
END:VEVENT
BEGIN:VEVENT
DTSTART;TZID=Europe/London:20260801T080000
DTEND;TZID=Europe/London:20260801T110000
DTSTAMP:20260420T094348
CREATED:20250711T091505Z
LAST-MODIFIED:20251028T165130Z
UID:10002479-1785571200-1785582000@www.vpcc.co.uk
SUMMARY:Slimming World - Sharon Lewis
DESCRIPTION:
URL:https://www.vpcc.co.uk/event/slimming-world-sharon-lewis-2/2026-08-01
LOCATION:Victoria Park Community Centre\, Victoria Park Drive\, Bridgwater\, Somerset\, TA6 7AS\, United Kingdom
END:VEVENT
BEGIN:VEVENT
DTSTART;TZID=Europe/London:20260808T080000
DTEND;TZID=Europe/London:20260808T110000
DTSTAMP:20260420T094348
CREATED:20250711T091505Z
LAST-MODIFIED:20251028T165130Z
UID:10002480-1786176000-1786186800@www.vpcc.co.uk
SUMMARY:Slimming World - Sharon Lewis
DESCRIPTION:
URL:https://www.vpcc.co.uk/event/slimming-world-sharon-lewis-2/2026-08-08
LOCATION:Victoria Park Community Centre\, Victoria Park Drive\, Bridgwater\, Somerset\, TA6 7AS\, United Kingdom
END:VEVENT
BEGIN:VEVENT
DTSTART;TZID=Europe/London:20260815T080000
DTEND;TZID=Europe/London:20260815T110000
DTSTAMP:20260420T094348
CREATED:20250711T091505Z
LAST-MODIFIED:20251028T165130Z
UID:10002481-1786780800-1786791600@www.vpcc.co.uk
SUMMARY:Slimming World - Sharon Lewis
DESCRIPTION:
URL:https://www.vpcc.co.uk/event/slimming-world-sharon-lewis-2/2026-08-15
LOCATION:Victoria Park Community Centre\, Victoria Park Drive\, Bridgwater\, Somerset\, TA6 7AS\, United Kingdom
END:VEVENT
BEGIN:VEVENT
DTSTART;TZID=Europe/London:20260822T080000
DTEND;TZID=Europe/London:20260822T110000
DTSTAMP:20260420T094348
CREATED:20250711T091505Z
LAST-MODIFIED:20251028T165130Z
UID:10002482-1787385600-1787396400@www.vpcc.co.uk
SUMMARY:Slimming World - Sharon Lewis
DESCRIPTION:
URL:https://www.vpcc.co.uk/event/slimming-world-sharon-lewis-2/2026-08-22
LOCATION:Victoria Park Community Centre\, Victoria Park Drive\, Bridgwater\, Somerset\, TA6 7AS\, United Kingdom
END:VEVENT
BEGIN:VEVENT
DTSTART;TZID=Europe/London:20260829T080000
DTEND;TZID=Europe/London:20260829T110000
DTSTAMP:20260420T094348
CREATED:20250711T091505Z
LAST-MODIFIED:20251028T165130Z
UID:10002483-1787990400-1788001200@www.vpcc.co.uk
SUMMARY:Slimming World - Sharon Lewis
DESCRIPTION:
URL:https://www.vpcc.co.uk/event/slimming-world-sharon-lewis-2/2026-08-29
LOCATION:Victoria Park Community Centre\, Victoria Park Drive\, Bridgwater\, Somerset\, TA6 7AS\, United Kingdom
END:VEVENT
BEGIN:VEVENT
DTSTART;TZID=Europe/London:20260905T080000
DTEND;TZID=Europe/London:20260905T110000
DTSTAMP:20260420T094348
CREATED:20250711T091505Z
LAST-MODIFIED:20251028T165130Z
UID:10002484-1788595200-1788606000@www.vpcc.co.uk
SUMMARY:Slimming World - Sharon Lewis
DESCRIPTION:
URL:https://www.vpcc.co.uk/event/slimming-world-sharon-lewis-2/2026-09-05
LOCATION:Victoria Park Community Centre\, Victoria Park Drive\, Bridgwater\, Somerset\, TA6 7AS\, United Kingdom
END:VEVENT
BEGIN:VEVENT
DTSTART;TZID=Europe/London:20260912T080000
DTEND;TZID=Europe/London:20260912T110000
DTSTAMP:20260420T094348
CREATED:20250711T091505Z
LAST-MODIFIED:20251028T165130Z
UID:10002485-1789200000-1789210800@www.vpcc.co.uk
SUMMARY:Slimming World - Sharon Lewis
DESCRIPTION:
URL:https://www.vpcc.co.uk/event/slimming-world-sharon-lewis-2/2026-09-12
LOCATION:Victoria Park Community Centre\, Victoria Park Drive\, Bridgwater\, Somerset\, TA6 7AS\, United Kingdom
END:VEVENT
BEGIN:VEVENT
DTSTART;TZID=Europe/London:20260919T080000
DTEND;TZID=Europe/London:20260919T110000
DTSTAMP:20260420T094348
CREATED:20250711T091505Z
LAST-MODIFIED:20251028T165130Z
UID:10002486-1789804800-1789815600@www.vpcc.co.uk
SUMMARY:Slimming World - Sharon Lewis
DESCRIPTION:
URL:https://www.vpcc.co.uk/event/slimming-world-sharon-lewis-2/2026-09-19
LOCATION:Victoria Park Community Centre\, Victoria Park Drive\, Bridgwater\, Somerset\, TA6 7AS\, United Kingdom
END:VEVENT
BEGIN:VEVENT
DTSTART;TZID=Europe/London:20260926T080000
DTEND;TZID=Europe/London:20260926T110000
DTSTAMP:20260420T094348
CREATED:20250711T091505Z
LAST-MODIFIED:20251028T165130Z
UID:10002487-1790409600-1790420400@www.vpcc.co.uk
SUMMARY:Slimming World - Sharon Lewis
DESCRIPTION:
URL:https://www.vpcc.co.uk/event/slimming-world-sharon-lewis-2/2026-09-26
LOCATION:Victoria Park Community Centre\, Victoria Park Drive\, Bridgwater\, Somerset\, TA6 7AS\, United Kingdom
END:VEVENT
BEGIN:VEVENT
DTSTART;TZID=Europe/London:20261003T080000
DTEND;TZID=Europe/London:20261003T110000
DTSTAMP:20260420T094348
CREATED:20250711T091505Z
LAST-MODIFIED:20251028T165130Z
UID:10002488-1791014400-1791025200@www.vpcc.co.uk
SUMMARY:Slimming World - Sharon Lewis
DESCRIPTION:
URL:https://www.vpcc.co.uk/event/slimming-world-sharon-lewis-2/2026-10-03
LOCATION:Victoria Park Community Centre\, Victoria Park Drive\, Bridgwater\, Somerset\, TA6 7AS\, United Kingdom
END:VEVENT
BEGIN:VEVENT
DTSTART;TZID=Europe/London:20261010T080000
DTEND;TZID=Europe/London:20261010T110000
DTSTAMP:20260420T094348
CREATED:20250711T091505Z
LAST-MODIFIED:20251028T165130Z
UID:10002489-1791619200-1791630000@www.vpcc.co.uk
SUMMARY:Slimming World - Sharon Lewis
DESCRIPTION:
URL:https://www.vpcc.co.uk/event/slimming-world-sharon-lewis-2/2026-10-10
LOCATION:Victoria Park Community Centre\, Victoria Park Drive\, Bridgwater\, Somerset\, TA6 7AS\, United Kingdom
END:VEVENT
BEGIN:VEVENT
DTSTART;TZID=Europe/London:20261017T080000
DTEND;TZID=Europe/London:20261017T110000
DTSTAMP:20260420T094348
CREATED:20250711T091505Z
LAST-MODIFIED:20251028T165130Z
UID:10002490-1792224000-1792234800@www.vpcc.co.uk
SUMMARY:Slimming World - Sharon Lewis
DESCRIPTION:
URL:https://www.vpcc.co.uk/event/slimming-world-sharon-lewis-2/2026-10-17
LOCATION:Victoria Park Community Centre\, Victoria Park Drive\, Bridgwater\, Somerset\, TA6 7AS\, United Kingdom
END:VEVENT
BEGIN:VEVENT
DTSTART;TZID=Europe/London:20261024T080000
DTEND;TZID=Europe/London:20261024T110000
DTSTAMP:20260420T094348
CREATED:20250711T091505Z
LAST-MODIFIED:20251028T165130Z
UID:10002491-1792828800-1792839600@www.vpcc.co.uk
SUMMARY:Slimming World - Sharon Lewis
DESCRIPTION:
URL:https://www.vpcc.co.uk/event/slimming-world-sharon-lewis-2/2026-10-24
LOCATION:Victoria Park Community Centre\, Victoria Park Drive\, Bridgwater\, Somerset\, TA6 7AS\, United Kingdom
END:VEVENT
BEGIN:VEVENT
DTSTART;TZID=Europe/London:20261031T080000
DTEND;TZID=Europe/London:20261031T110000
DTSTAMP:20260420T094348
CREATED:20250711T091505Z
LAST-MODIFIED:20251028T165130Z
UID:10002492-1793433600-1793444400@www.vpcc.co.uk
SUMMARY:Slimming World - Sharon Lewis
DESCRIPTION:
URL:https://www.vpcc.co.uk/event/slimming-world-sharon-lewis-2/2026-10-31
LOCATION:Victoria Park Community Centre\, Victoria Park Drive\, Bridgwater\, Somerset\, TA6 7AS\, United Kingdom
END:VEVENT
BEGIN:VEVENT
DTSTART;TZID=Europe/London:20261107T080000
DTEND;TZID=Europe/London:20261107T110000
DTSTAMP:20260420T094348
CREATED:20250711T091505Z
LAST-MODIFIED:20251028T165130Z
UID:10002493-1794038400-1794049200@www.vpcc.co.uk
SUMMARY:Slimming World - Sharon Lewis
DESCRIPTION:
URL:https://www.vpcc.co.uk/event/slimming-world-sharon-lewis-2/2026-11-07
LOCATION:Victoria Park Community Centre\, Victoria Park Drive\, Bridgwater\, Somerset\, TA6 7AS\, United Kingdom
END:VEVENT
BEGIN:VEVENT
DTSTART;TZID=Europe/London:20261114T080000
DTEND;TZID=Europe/London:20261114T110000
DTSTAMP:20260420T094348
CREATED:20250711T091505Z
LAST-MODIFIED:20251028T165130Z
UID:10002494-1794643200-1794654000@www.vpcc.co.uk
SUMMARY:Slimming World - Sharon Lewis
DESCRIPTION:
URL:https://www.vpcc.co.uk/event/slimming-world-sharon-lewis-2/2026-11-14
LOCATION:Victoria Park Community Centre\, Victoria Park Drive\, Bridgwater\, Somerset\, TA6 7AS\, United Kingdom
END:VEVENT
END:VCALENDAR